BEGIN:VCALENDAR
VERSION:2.0
PRODID:-//wp-events-plugin.com//7.2.3.1//EN
TZID:America/New_York
X-WR-TIMEZONE:America/New_York
BEGIN:VEVENT
UID:4500@goriverwalk.com
DTSTART;TZID=America/New_York:20180609T130000
DTEND;TZID=America/New_York:20180609T140000
DTSTAMP:20180515T210537Z
URL:https://www.goriverwalk.com/greater-fort-lauderdale-events/butterfly-g
 ardening-workshop-3
SUMMARY:Butterfly Gardening Workshop
DESCRIPTION:Learn How to Start Your Own Butterfly Garden!
ATTACH;FMTTYPE=image/jpeg:https://www.goriverwalk.com/wp-content/uploads/2
 018/03/Butterfly-World.jpg
CATEGORIES:Education,Science
LOCATION:Butterfly World\, 3600 W. Sample Road\, Coconut Creek\, FL\, 33073
 \, United States
GEO:26.282066;-80.17103609999998
X-APPLE-STRUCTURED-LOCATION;VALUE=URI;X-ADDRESS=3600 W. Sample Road\, Cocon
 ut Creek\, FL\, 33073\, United States;X-APPLE-RADIUS=100;X-TITLE=Butterfly
  World:geo:26.282066,-80.17103609999998
END:VEVENT
BEGIN:VTIMEZONE
TZID:America/New_York
X-LIC-LOCATION:America/New_York
BEGIN:DAYLIGHT
DTSTART:20180311T030000
TZOFFSETFROM:-0500
TZOFFSETTO:-0400
TZNAME:EDT
END:DAYLIGHT
END:VTIMEZONE
END:VCALENDAR