BEGIN:VCALENDAR
VERSION:2.0
PRODID:-//wp-events-plugin.com//7.2.3.1//EN
TZID:America/New_York
X-WR-TIMEZONE:America/New_York
BEGIN:VEVENT
UID:18399@goriverwalk.com
DTSTART;TZID=America/New_York:20240122T173000
DTEND;TZID=America/New_York:20240122T190000
DTSTAMP:20240116T155522Z
URL:https://www.goriverwalk.com/greater-fort-lauderdale-events/business-fo
 r-the-arts-of-browards-arts-mean-business-speaker-series-with-kandy-g-lope
 z
SUMMARY:Business for the Arts of Broward’s Arts Mean Business Speaker Ser
 ies with Kandy G Lopez
DESCRIPTION:An intimate cocktail reception including a conversation and mee
 t and greet with artist Kandy G Lopez.
ATTACH;FMTTYPE=image/jpeg:https://www.goriverwalk.com/wp-content/uploads/2
 023/12/IMG_2625.jpg
CATEGORIES:Art,Business,Cocktail,Cultural
LOCATION:Berger Singerman\, 201 E Las Olas Blvd.\, Suite 1500\, Fort Lauder
 dale\, FL/Broward\, 33301\, Fort Lauderdale\, United States
X-APPLE-STRUCTURED-LOCATION;VALUE=URI;X-ADDRESS=201 E Las Olas Blvd.\, Suit
 e 1500\, Fort Lauderdale\, FL/Broward\, 33301\, Fort Lauderdale\, United S
 tates;X-APPLE-RADIUS=100;X-TITLE=Berger Singerman:geo:0,0
END:VEVENT
BEGIN:VTIMEZONE
TZID:America/New_York
X-LIC-LOCATION:America/New_York
BEGIN:STANDARD
DTSTART:20231105T010000
TZOFFSETFROM:-0400
TZOFFSETTO:-0500
TZNAME:EST
END:STANDARD
END:VTIMEZONE
END:VCALENDAR