BEGIN:VCALENDAR
VERSION:2.0
PRODID:-//wp-events-plugin.com//7.2.3.1//EN
TZID:America/New_York
X-WR-TIMEZONE:America/New_York
BEGIN:VEVENT
UID:2734@goriverwalk.com
DTSTART;TZID=America/New_York:20170221T083000
DTEND;TZID=America/New_York:20170221T163000
DTSTAMP:20161109T192933Z
URL:https://www.goriverwalk.com/greater-fort-lauderdale-events/building-a-
 better-broward-a-shared-agenda-for-our-children
SUMMARY:Building a Better Broward: A Shared Agenda for Our Children
DESCRIPTION:Further the progress we are making for the children and familie
 s of Broward County.
ATTACH;FMTTYPE=image/jpeg:https://www.goriverwalk.com/wp-content/uploads/2
 015/12/Default-calendar.jpg
CATEGORIES:Community
LOCATION:Broward County Convention Center\, 1950 Eisenhower Boulevard\, For
 t Lauderdale\, Florida\, 33316\, United States
GEO:26.098818;-80.12294800000001
X-APPLE-STRUCTURED-LOCATION;VALUE=URI;X-ADDRESS=1950 Eisenhower Boulevard\,
  Fort Lauderdale\, Florida\, 33316\, United States;X-APPLE-RADIUS=100;X-TI
 TLE=Broward County Convention Center:geo:26.098818,-80.12294800000001
END:VEVENT
BEGIN:VTIMEZONE
TZID:America/New_York
X-LIC-LOCATION:America/New_York
BEGIN:STANDARD
DTSTART:20161106T010000
TZOFFSETFROM:-0400
TZOFFSETTO:-0500
TZNAME:EST
END:STANDARD
END:VTIMEZONE
END:VCALENDAR