BEGIN:VCALENDAR
VERSION:2.0
PRODID:-//wp-events-plugin.com//7.2.3.1//EN
TZID:America/New_York
X-WR-TIMEZONE:America/New_York
BEGIN:VEVENT
UID:19341@goriverwalk.com
DTSTART;TZID=America/New_York:20240704T093000
DTEND;TZID=America/New_York:20240704T170000
DTSTAMP:20240610T190714Z
URL:https://www.goriverwalk.com/greater-fort-lauderdale-events/buddy-the-p
 anthers-6th-birthday-bash
SUMMARY:Buddy the Panther's 6th Birthday Bash
DESCRIPTION:Buddy's turning 6 years old!
ATTACH;FMTTYPE=image/jpeg:https://www.goriverwalk.com/wp-content/uploads/2
 024/06/7-4-24-Buddy.jpg
CATEGORIES:Children,Community,Nature
LOCATION:Flamingo Grdens\, 3750 S Flamingo Road\, Davie\, FL\, 33330\, Unit
 ed States
GEO:26.075379;-80.30718200000001
X-APPLE-STRUCTURED-LOCATION;VALUE=URI;X-ADDRESS=3750 S Flamingo Road\, Davi
 e\, FL\, 33330\, United States;X-APPLE-RADIUS=100;X-TITLE=Flamingo Grdens:
 geo:26.075379,-80.30718200000001
END:VEVENT
BEGIN:VTIMEZONE
TZID:America/New_York
X-LIC-LOCATION:America/New_York
BEGIN:DAYLIGHT
DTSTART:20240310T030000
TZOFFSETFROM:-0500
TZOFFSETTO:-0400
TZNAME:EDT
END:DAYLIGHT
END:VTIMEZONE
END:VCALENDAR