BEGIN:VCALENDAR
VERSION:2.0
PRODID:-//wp-events-plugin.com//7.2.3.1//EN
TZID:America/New_York
X-WR-TIMEZONE:America/New_York
BEGIN:VEVENT
UID:3571@goriverwalk.com
DTSTART;TZID=America/New_York:20171114T180000
DTEND;TZID=America/New_York:20171114T194500
DTSTAMP:20170829T172633Z
URL:https://www.goriverwalk.com/greater-fort-lauderdale-events/buddies-ove
 r-bullies-anti-bullying-workshop
SUMMARY:Buddies Over Bullies - Anti Bullying Workshop
DESCRIPTION:This program focuses on the effects that bullying can have on i
 ndividuals with disabilities.
ATTACH;FMTTYPE=image/jpeg:https://www.goriverwalk.com/wp-content/uploads/2
 015/12/Default-calendar.jpg
CATEGORIES:Education
LOCATION:Main Broward County Library\, 100 S Andrews Ave\, Fort Lauderdale\
 , Florida\, 33301\, United States
GEO:26.120946;-80.14289789999998
X-APPLE-STRUCTURED-LOCATION;VALUE=URI;X-ADDRESS=100 S Andrews Ave\, Fort La
 uderdale\, Florida\, 33301\, United States;X-APPLE-RADIUS=100;X-TITLE=Main
  Broward County Library:geo:26.120946,-80.14289789999998
END:VEVENT
BEGIN:VTIMEZONE
TZID:America/New_York
X-LIC-LOCATION:America/New_York
BEGIN:STANDARD
DTSTART:20171105T010000
TZOFFSETFROM:-0400
TZOFFSETTO:-0500
TZNAME:EST
END:STANDARD
END:VTIMEZONE
END:VCALENDAR