BEGIN:VCALENDAR
VERSION:2.0
PRODID:-//wp-events-plugin.com//7.2.3.1//EN
TZID:America/New_York
X-WR-TIMEZONE:America/New_York
BEGIN:VEVENT
UID:22929@goriverwalk.com
DTSTART;TZID=America/New_York:20260426T190000
DTEND;TZID=America/New_York:20260426T203000
DTSTAMP:20260421T142128Z
URL:https://www.goriverwalk.com/greater-fort-lauderdale-events/broward-wom
 ens-chorus
SUMMARY:Broward Women's Chorus
DESCRIPTION:The Broward Women’s Chorus spring concert\, “Imagine\,” f
 eatures favorite Broadway music\, pop songs and standards showcasing hopes
 \, dreams and the joy of making music.\n\nUnder the direction of Sylvia Ro
 se Aycock\, the chorus will perform favorite songs from the 1920s to the 1
 990s\, drawing from pop\, Broadway and American standards. The 40 singers 
 will be accompanied by pianist Carolyn Morgan.\n\nThe concert is at 7 p.m
 . Sunday\, April 26\, at Sunshine Cathedral\, 1480 SW 9th Ave\, Fort Laude
 rdale\, FL 33315. This will be the big gala concert of the spring season a
 nd will include a wine bar. https://tinyurl.com/BWCSpring26\n\nBWC is a wo
 men’s chorus in its 55th year of singing in South Florida. Its 40-plus m
 embers rehearse Wednesday morning from September through May in Fort Laude
 rdale. New members are accepted in September and in January.
ATTACH;FMTTYPE=image/jpeg:https://www.goriverwalk.com/wp-content/uploads/2
 026/04/image.webp
CATEGORIES:Community,Music
LOCATION:Sunshine Cathedral\, 1480 SW 9th Ave \, Fort Lauderdale\, FL\, 333
 15\, United States
GEO:26.1033818;-80.15267069999999
X-APPLE-STRUCTURED-LOCATION;VALUE=URI;X-ADDRESS=1480 SW 9th Ave \, Fort Lau
 derdale\, FL\, 33315\, United States;X-APPLE-RADIUS=100;X-TITLE=Sunshine C
 athedral:geo:26.1033818,-80.15267069999999
END:VEVENT
BEGIN:VTIMEZONE
TZID:America/New_York
X-LIC-LOCATION:America/New_York
BEGIN:DAYLIGHT
DTSTART:20260308T030000
TZOFFSETFROM:-0500
TZOFFSETTO:-0400
TZNAME:EDT
END:DAYLIGHT
END:VTIMEZONE
END:VCALENDAR