BEGIN:VCALENDAR
VERSION:2.0
PRODID:-//wp-events-plugin.com//7.2.3.1//EN
TZID:America/New_York
X-WR-TIMEZONE:America/New_York
BEGIN:VEVENT
UID:6557@goriverwalk.com
DTSTART;TZID=America/New_York:20190302T090000
DTEND;TZID=America/New_York:20190302T130000
DTSTAMP:20181214T194731Z
URL:https://www.goriverwalk.com/greater-fort-lauderdale-events/broward-cou
 nty-waterway-cleanup-2
SUMMARY:Broward County Waterway Cleanup
DESCRIPTION:Do your part!
ATTACH;FMTTYPE=image/jpeg:https://www.goriverwalk.com/wp-content/uploads/2
 018/12/WWCU-Logo-2015-white-FINAL-700x400.jpg
CATEGORIES:Community
LOCATION:Cooley's Landing\, 430 Cooley Avenue\, Fort Lauderdale\, FL\, 3331
 2\, United States
GEO:26.1167669;-80.15030790000003
X-APPLE-STRUCTURED-LOCATION;VALUE=URI;X-ADDRESS=430 Cooley Avenue\, Fort La
 uderdale\, FL\, 33312\, United States;X-APPLE-RADIUS=100;X-TITLE=Cooley's 
 Landing:geo:26.1167669,-80.15030790000003
END:VEVENT
BEGIN:VTIMEZONE
TZID:America/New_York
X-LIC-LOCATION:America/New_York
BEGIN:STANDARD
DTSTART:20181104T010000
TZOFFSETFROM:-0400
TZOFFSETTO:-0500
TZNAME:EST
END:STANDARD
END:VTIMEZONE
END:VCALENDAR