BEGIN:VCALENDAR
VERSION:2.0
PRODID:-//wp-events-plugin.com//7.2.3.1//EN
TZID:America/New_York
X-WR-TIMEZONE:America/New_York
BEGIN:VEVENT
UID:2458@goriverwalk.com
DTSTART;TZID=America/New_York:20160817T140000
DTEND;TZID=America/New_York:20160817T160000
DTSTAMP:20160802T130432Z
URL:https://www.goriverwalk.com/greater-fort-lauderdale-events/broward-cou
 nty-opiate-action-plan-panel-discussion
SUMMARY:Broward County Opiate Action Plan Panel Discussion
DESCRIPTION:A panel discussion to unveil and explain Broward County’s Opi
 ate Action Plan.
ATTACH;FMTTYPE=image/jpeg:https://www.goriverwalk.com/wp-content/uploads/2
 015/12/Default-calendar.jpg
CATEGORIES:Education,Health
LOCATION:Florida Department of Health- Broward County\, 780 SW 24th Street 
 Auditorium-Admin Building\, Fort Lauderdale\, FL\, 33315\, United States
GEO:26.0883682;-80.15960410000002
X-APPLE-STRUCTURED-LOCATION;VALUE=URI;X-ADDRESS=780 SW 24th Street Auditori
 um-Admin Building\, Fort Lauderdale\, FL\, 33315\, United States;X-APPLE-R
 ADIUS=100;X-TITLE=Florida Department of Health- Broward County:geo:26.0883
 682,-80.15960410000002
END:VEVENT
BEGIN:VTIMEZONE
TZID:America/New_York
X-LIC-LOCATION:America/New_York
BEGIN:DAYLIGHT
DTSTART:20160313T030000
TZOFFSETFROM:-0500
TZOFFSETTO:-0400
TZNAME:EDT
END:DAYLIGHT
END:VTIMEZONE
END:VCALENDAR