BEGIN:VCALENDAR
VERSION:2.0
PRODID:-//wp-events-plugin.com//7.2.3.1//EN
TZID:America/New_York
X-WR-TIMEZONE:America/New_York
BEGIN:VEVENT
UID:2453@goriverwalk.com
DTSTART;TZID=America/New_York:20160820T123000
DTEND;TZID=America/New_York:20160820T160000
DTSTAMP:20160802T130703Z
URL:https://www.goriverwalk.com/greater-fort-lauderdale-events/broward-cen
 ter-for-the-performing-arts-fall-classes-open-house
SUMMARY:Broward Center for the Performing Arts’ Fall Classes Open House
DESCRIPTION:Tour the facilities\, observe or participate in a sample class\
 , meet the teaching artists\, enjoy family-friendly activities and more.
ATTACH;FMTTYPE=image/jpeg:https://www.goriverwalk.com/wp-content/uploads/2
 015/12/Default-calendar.jpg
CATEGORIES:Education
LOCATION:Rose Miniaci Arts Education Center at the Broward Center for the P
 erforming Arts\, 201 SW 5th Avenue\, Fort Lauderdale\, FL 33312	\, 201 SW 
 5th Avenue\, Fort Lauderdale\, FL\, 33312\, Broward\, United States
GEO:26.119873;-80.149269
X-APPLE-STRUCTURED-LOCATION;VALUE=URI;X-ADDRESS=201 SW 5th Avenue\, Fort La
 uderdale\, FL\, 33312\, Broward\, United States;X-APPLE-RADIUS=100;X-TITLE
 =Rose Miniaci Arts Education Center at the Broward Center for the Performi
 ng Arts\, 201 SW 5th Avenue\, Fort Lauderdale\, FL 33312	:geo:26.119873,-8
 0.149269
END:VEVENT
BEGIN:VTIMEZONE
TZID:America/New_York
X-LIC-LOCATION:America/New_York
BEGIN:DAYLIGHT
DTSTART:20160313T030000
TZOFFSETFROM:-0500
TZOFFSETTO:-0400
TZNAME:EDT
END:DAYLIGHT
END:VTIMEZONE
END:VCALENDAR