BEGIN:VCALENDAR
VERSION:2.0
PRODID:-//wp-events-plugin.com//7.2.3.1//EN
TZID:America/New_York
X-WR-TIMEZONE:America/New_York
BEGIN:VEVENT
UID:18689@goriverwalk.com
DTSTART;TZID=America/New_York:20240427T200000
DTEND;TZID=America/New_York:20240427T200000
DTSTAMP:20240213T214314Z
URL:https://www.goriverwalk.com/greater-fort-lauderdale-events/brothers-os
 borne-might-as-well-be-us-tour
SUMMARY:Brothers Osborne: Might As Well Be Us Tour
DESCRIPTION:Grammy winning reigning CMA Vocal Duo of the Year
ATTACH;FMTTYPE=image/jpeg:https://www.goriverwalk.com/wp-content/uploads/2
 024/02/4-27-2-Brothers-Osborne-scaled.jpeg
CATEGORIES:Music
LOCATION:Hard Rock Live at Seminole Hard Rock Hotel & Casino\, 1 Seminole W
 ay\, Hollywood\, Florida\, 33314\, United States
GEO:26.0525928;-80.21242110000003
X-APPLE-STRUCTURED-LOCATION;VALUE=URI;X-ADDRESS=1 Seminole Way\, Hollywood\
 , Florida\, 33314\, United States;X-APPLE-RADIUS=100;X-TITLE=Hard Rock Liv
 e at Seminole Hard Rock Hotel & Casino:geo:26.0525928,-80.21242110000003
END:VEVENT
BEGIN:VTIMEZONE
TZID:America/New_York
X-LIC-LOCATION:America/New_York
BEGIN:DAYLIGHT
DTSTART:20240310T030000
TZOFFSETFROM:-0500
TZOFFSETTO:-0400
TZNAME:EDT
END:DAYLIGHT
END:VTIMEZONE
END:VCALENDAR