BEGIN:VCALENDAR
VERSION:2.0
PRODID:-//wp-events-plugin.com//7.2.3.1//EN
TZID:America/New_York
X-WR-TIMEZONE:America/New_York
BEGIN:VEVENT
UID:17313@goriverwalk.com
DTSTART;TZID=America/New_York:20230915T200000
DTEND;TZID=America/New_York:20230915T230000
DTSTAMP:20230901T163730Z
URL:https://www.goriverwalk.com/greater-fort-lauderdale-events/broken-hear
 ts
SUMMARY:Broken Hearts
DESCRIPTION:A tribute To Tom Petty
ATTACH;FMTTYPE=image/jpeg:https://www.goriverwalk.com/wp-content/uploads/2
 023/08/Tommy-petty.jpg
CATEGORIES:Music
LOCATION:The Casino @ Dania Beach\, 301 E. Dania Beach Boulevard\, Dania Be
 ach\, Florida\, 33004\, United States
X-APPLE-STRUCTURED-LOCATION;VALUE=URI;X-ADDRESS=301 E. Dania Beach Boulevar
 d\, Dania Beach\, Florida\, 33004\, United States;X-APPLE-RADIUS=100;X-TIT
 LE=The Casino @ Dania Beach:geo:0,0
END:VEVENT
BEGIN:VTIMEZONE
TZID:America/New_York
X-LIC-LOCATION:America/New_York
BEGIN:DAYLIGHT
DTSTART:20230312T030000
TZOFFSETFROM:-0500
TZOFFSETTO:-0400
TZNAME:EDT
END:DAYLIGHT
END:VTIMEZONE
END:VCALENDAR