BEGIN:VCALENDAR
VERSION:2.0
PRODID:-//wp-events-plugin.com//7.2.3.1//EN
TZID:America/New_York
X-WR-TIMEZONE:America/New_York
BEGIN:VEVENT
UID:20398@goriverwalk.com
DTSTART;TZID=America/New_York:20250329T193000
DTEND;TZID=America/New_York:20250329T193000
DTSTAMP:20250131T143752Z
URL:https://www.goriverwalk.com/greater-fort-lauderdale-events/bored-teach
 ers-the-struggle-is-real-comedy-tour
SUMMARY:Bored Teachers: The Struggle is Real! Comedy Tour
DESCRIPTION:Night of laughter you DO NOT want to miss\n
ATTACH;FMTTYPE=image/jpeg:https://www.goriverwalk.com/wp-content/uploads/2
 025/01/3-29-25-Bored-Teacher.jpg
CATEGORIES:Comedy
LOCATION:Lillian S. Wells Hall at The Parker\, 707 NE 8th Street\, Fort Lau
 derdale\, Florida\, 33304\, United States
X-APPLE-STRUCTURED-LOCATION;VALUE=URI;X-ADDRESS=707 NE 8th Street\, Fort La
 uderdale\, Florida\, 33304\, United States;X-APPLE-RADIUS=100;X-TITLE=Lill
 ian S. Wells Hall at The Parker:geo:0,0
END:VEVENT
BEGIN:VTIMEZONE
TZID:America/New_York
X-LIC-LOCATION:America/New_York
BEGIN:DAYLIGHT
DTSTART:20250309T030000
TZOFFSETFROM:-0500
TZOFFSETTO:-0400
TZNAME:EDT
END:DAYLIGHT
END:VTIMEZONE
END:VCALENDAR