BEGIN:VCALENDAR
VERSION:2.0
PRODID:-//wp-events-plugin.com//7.2.3.1//EN
TZID:America/New_York
X-WR-TIMEZONE:America/New_York
BEGIN:VEVENT
UID:2529@goriverwalk.com
DTSTART;TZID=America/New_York:20161020T103000
DTEND;TZID=America/New_York:20161020T121500
DTSTAMP:20160906T155711Z
URL:https://www.goriverwalk.com/greater-fort-lauderdale-events/book-with-b
 runch
SUMMARY:Book with Brunch
DESCRIPTION: Partake in a light brunch while enjoying a presentation made b
 y a local author. 
ATTACH;FMTTYPE=image/jpeg:https://www.goriverwalk.com/wp-content/uploads/2
 015/12/Default-calendar.jpg
CATEGORIES:Cultural,Education,Food
LOCATION:ArtServe\, 1350 E Sunrise Boulevard\, Fort Lauderdale\, Florida\, 
 33304\, United States
GEO:26.136778;-80.130241
X-APPLE-STRUCTURED-LOCATION;VALUE=URI;X-ADDRESS=1350 E Sunrise Boulevard\, 
 Fort Lauderdale\, Florida\, 33304\, United States;X-APPLE-RADIUS=100;X-TIT
 LE=ArtServe:geo:26.136778,-80.130241
END:VEVENT
BEGIN:VTIMEZONE
TZID:America/New_York
X-LIC-LOCATION:America/New_York
BEGIN:DAYLIGHT
DTSTART:20160313T030000
TZOFFSETFROM:-0500
TZOFFSETTO:-0400
TZNAME:EDT
END:DAYLIGHT
END:VTIMEZONE
END:VCALENDAR