BEGIN:VCALENDAR
VERSION:2.0
PRODID:-//wp-events-plugin.com//7.2.3.1//EN
TZID:America/New_York
X-WR-TIMEZONE:America/New_York
BEGIN:VEVENT
UID:6826@goriverwalk.com
DTSTART;TZID=America/New_York:20190211T100000
DTEND;TZID=America/New_York:20190211T113000
DTSTAMP:20190130T193931Z
URL:https://www.goriverwalk.com/greater-fort-lauderdale-events/bonnet-hous
 e-lecture-series-6
SUMMARY:Bonnet House Lecture Series
DESCRIPTION:Fort Lauderdale in the 30's &amp\; 40's
ATTACH;FMTTYPE=image/jpeg:https://www.goriverwalk.com/wp-content/uploads/2
 019/01/old-fll-beach.jpg
CATEGORIES:Community,Education
LOCATION:Bonnet House Museum and Gardens\, 900 N. Birch Road\, Fort Lauderd
 ale\, Florida\, 33304\, United States
GEO:26.135141;-80.104462
X-APPLE-STRUCTURED-LOCATION;VALUE=URI;X-ADDRESS=900 N. Birch Road\, Fort La
 uderdale\, Florida\, 33304\, United States;X-APPLE-RADIUS=100;X-TITLE=Bonn
 et House Museum and Gardens:geo:26.135141,-80.104462
END:VEVENT
BEGIN:VTIMEZONE
TZID:America/New_York
X-LIC-LOCATION:America/New_York
BEGIN:STANDARD
DTSTART:20181104T010000
TZOFFSETFROM:-0400
TZOFFSETTO:-0500
TZNAME:EST
END:STANDARD
END:VTIMEZONE
END:VCALENDAR