BEGIN:VCALENDAR
VERSION:2.0
PRODID:-//wp-events-plugin.com//7.2.3.1//EN
TZID:America/New_York
X-WR-TIMEZONE:America/New_York
BEGIN:VEVENT
UID:8047@goriverwalk.com
DTSTART;TZID=America/New_York:20190906T173000
DTEND;TZID=America/New_York:20190906T193000
DTSTAMP:20190812T151828Z
URL:https://www.goriverwalk.com/greater-fort-lauderdale-events/bikes-brews
SUMMARY:Bikes & Brews
DESCRIPTION:Cycle class and happy hour
ATTACH;FMTTYPE=image/jpeg:https://www.goriverwalk.com/wp-content/uploads/2
 019/08/BIKES-BREWS.jpg
CATEGORIES:Health
LOCATION:Tarpon River Brewing\, 280 SW 6th St\, Fort Lauderdale\, FL\, 3330
 1\, United States
GEO:26.114597;-80.14466829999998
X-APPLE-STRUCTURED-LOCATION;VALUE=URI;X-ADDRESS=280 SW 6th St\, Fort Lauder
 dale\, FL\, 33301\, United States;X-APPLE-RADIUS=100;X-TITLE=Tarpon River 
 Brewing:geo:26.114597,-80.14466829999998
END:VEVENT
BEGIN:VTIMEZONE
TZID:America/New_York
X-LIC-LOCATION:America/New_York
BEGIN:DAYLIGHT
DTSTART:20190310T030000
TZOFFSETFROM:-0500
TZOFFSETTO:-0400
TZNAME:EDT
END:DAYLIGHT
END:VTIMEZONE
END:VCALENDAR