BEGIN:VCALENDAR
VERSION:2.0
PRODID:-//wp-events-plugin.com//7.2.3.1//EN
TZID:America/New_York
X-WR-TIMEZONE:America/New_York
BEGIN:VEVENT
UID:3415@goriverwalk.com
DTSTART;TZID=America/New_York:20170802T200000
DTEND;TZID=America/New_York:20170802T230000
DTSTAMP:20170724T164322Z
URL:https://www.goriverwalk.com/greater-fort-lauderdale-events/bid-for-cre
 ative-empowerment-live-art-auction-by-desiree-kim
SUMMARY:Bid for Creative Empowerment - Live Art &amp\; Auction by Desiree K
 im
DESCRIPTION:Benefitting the expansion of the Desiree Kim's Mindful Art prog
 ram.
ATTACH;FMTTYPE=image/jpeg:https://www.goriverwalk.com/wp-content/uploads/2
 017/07/1446kim_1500x1548-silent-auction-400x400.jpg
CATEGORIES:Art,Cocktail,Fundraiser,Music
LOCATION:The W Hotel Fort Lauderdale\, 401 Fort Lauderdale Beach Boulevard\
 , Fort Lauderdale\, Florida\, 33304\, United States
GEO:26.1285284;-80.10473000000002
X-APPLE-STRUCTURED-LOCATION;VALUE=URI;X-ADDRESS=401 Fort Lauderdale Beach B
 oulevard\, Fort Lauderdale\, Florida\, 33304\, United States;X-APPLE-RADIU
 S=100;X-TITLE=The W Hotel Fort Lauderdale:geo:26.1285284,-80.1047300000000
 2
END:VEVENT
BEGIN:VTIMEZONE
TZID:America/New_York
X-LIC-LOCATION:America/New_York
BEGIN:DAYLIGHT
DTSTART:20170312T030000
TZOFFSETFROM:-0500
TZOFFSETTO:-0400
TZNAME:EDT
END:DAYLIGHT
END:VTIMEZONE
END:VCALENDAR