BEGIN:VCALENDAR
VERSION:2.0
PRODID:-//wp-events-plugin.com//7.2.3.1//EN
TZID:America/New_York
X-WR-TIMEZONE:America/New_York
BEGIN:VEVENT
UID:10071@goriverwalk.com
DTSTART;TZID=America/New_York:20200918T170000
DTEND;TZID=America/New_York:20200919T170000
DTSTAMP:20200819T142935Z
URL:https://www.goriverwalk.com/greater-fort-lauderdale-events/bid-for-a-b
 righter-future-for-kids
SUMMARY:Bid for a Brighter Future for Kids
DESCRIPTION:A 24-hour online auction
ATTACH;FMTTYPE=image/jpeg:https://www.goriverwalk.com/wp-content/uploads/2
 020/08/CHT-Tangles.jpg
CATEGORIES:Community,Fundraiser
END:VEVENT
BEGIN:VTIMEZONE
TZID:America/New_York
X-LIC-LOCATION:America/New_York
BEGIN:DAYLIGHT
DTSTART:20200308T030000
TZOFFSETFROM:-0500
TZOFFSETTO:-0400
TZNAME:EDT
END:DAYLIGHT
END:VTIMEZONE
END:VCALENDAR