BEGIN:VCALENDAR
VERSION:2.0
PRODID:-//wp-events-plugin.com//7.2.3.1//EN
TZID:America/New_York
X-WR-TIMEZONE:America/New_York
BEGIN:VEVENT
UID:18087@goriverwalk.com
DTSTART;TZID=America/New_York:20231202T093000
DTEND;TZID=America/New_York:20231203T160000
DTSTAMP:20231108T205205Z
URL:https://www.goriverwalk.com/greater-fort-lauderdale-events/bi-annual-o
 rchid-and-plant-festival
SUMMARY:Bi-annual Orchid and Plant Festival
DESCRIPTION:Over 20 vendors
ATTACH;FMTTYPE=image/jpeg:https://www.goriverwalk.com/wp-content/uploads/2
 023/11/Sawgrass-Nature-Centers-Bi-annual-Orchid-and-Plant-Festival.jpg
CATEGORIES:Festival
LOCATION:Sawgrass Nature Center and Wildlife Hospital\, 3000 Sportsplex Dri
 ve\, Coral Springs\, FL\, 33065\, United States
X-APPLE-STRUCTURED-LOCATION;VALUE=URI;X-ADDRESS=3000 Sportsplex Drive\, Cor
 al Springs\, FL\, 33065\, United States;X-APPLE-RADIUS=100;X-TITLE=Sawgras
 s Nature Center and Wildlife Hospital:geo:0,0
END:VEVENT
BEGIN:VTIMEZONE
TZID:America/New_York
X-LIC-LOCATION:America/New_York
BEGIN:STANDARD
DTSTART:20231105T010000
TZOFFSETFROM:-0400
TZOFFSETTO:-0500
TZNAME:EST
END:STANDARD
END:VTIMEZONE
END:VCALENDAR