BEGIN:VCALENDAR
VERSION:2.0
PRODID:-//wp-events-plugin.com//7.2.3.1//EN
TZID:America/New_York
X-WR-TIMEZONE:America/New_York
BEGIN:VEVENT
UID:20167@goriverwalk.com
DTSTART;TZID=America/New_York:20250119T130000
DTEND;TZID=America/New_York:20250119T160000
DTSTAMP:20241227T200459Z
URL:https://www.goriverwalk.com/greater-fort-lauderdale-events/beachside-b
 runch
SUMMARY:Beachside Brunch
DESCRIPTION:Visit Lauderdale Food and Wine Festival
ATTACH;FMTTYPE=image/jpeg:https://www.goriverwalk.com/wp-content/uploads/2
 024/12/1-19-25-Beachside-Brunch.jpg
CATEGORIES:Festival
LOCATION:The Lawn at Las Olas Oceanside Park\, 3000 East Las Olas Boulevard
 \, Fort Lauderdale\, FL\, 33316\, FL\, United States
X-APPLE-STRUCTURED-LOCATION;VALUE=URI;X-ADDRESS=3000 East Las Olas Boulevar
 d\, Fort Lauderdale\, FL\, 33316\, FL\, United States;X-APPLE-RADIUS=100;X
 -TITLE=The Lawn at Las Olas Oceanside Park:geo:0,0
END:VEVENT
BEGIN:VTIMEZONE
TZID:America/New_York
X-LIC-LOCATION:America/New_York
BEGIN:STANDARD
DTSTART:20241103T010000
TZOFFSETFROM:-0400
TZOFFSETTO:-0500
TZNAME:EST
END:STANDARD
END:VTIMEZONE
END:VCALENDAR