BEGIN:VCALENDAR
VERSION:2.0
PRODID:-//wp-events-plugin.com//7.2.3.1//EN
TZID:America/New_York
X-WR-TIMEZONE:America/New_York
BEGIN:VEVENT
UID:22794@goriverwalk.com
DTSTART;TZID=America/New_York:20260411T110000
DTEND;TZID=America/New_York:20260411T150000
DTSTAMP:20260325T145152Z
URL:https://www.goriverwalk.com/greater-fort-lauderdale-events/battle-of-t
 he-paddles
SUMMARY:Battle of the Paddles
DESCRIPTION:Battle of the Paddles Pickleball Tournament\, presented by Sout
 h Florida Wellness Network (SFWN)\, to take place Saturday\, April 11 at 
 The Fort in Fort Lauderdale.\n\n·The 2026 Battle of the Paddles Picklebal
 l Tournament is more than a sporting event\, it is a high-energy community
  experience that will bring together business leaders\, healthcare profess
 ionals\, advocates\, and local residents for a shared purpose of advancing
  mental health\, wellness\, and recovery across South Florida.\n\n·Player
 s of all skill levels are welcome to participate.\n\n·Hosted in support o
 f SFWN\, this tournament celebrates the power of connection\, movement\, a
 nd community.\n\n·SFWN is a recovery-focused support network led by young
  adults\, adults\, and family peers whose work is grounded in lived experi
 ence. United by personal journeys through behavioral health\, emotional we
 llness\, trauma\, and substance use challenges\, SFWN empowers individuals
  and families to discover their own paths to recovery while strengthening 
 recovery-ready communities.\n\n·The tournament will go on rain or shine t
 hanks to The Fort’s covered courts.\n\nSaturday\, April 11\, 2026\n\n11 
 a.m. – 3 p.m.\n\nTICKETS: To purchase tickets or sponsorships\, please 
 visit https://secure.qgiv.com/for/3svwiw/event/2026battleofthepaddlespick
 leballtournament/
ATTACH;FMTTYPE=image/jpeg:https://www.goriverwalk.com/wp-content/uploads/2
 026/03/New.png
CATEGORIES:Community,Fundraiser,Sports
LOCATION:The Fort\, 891 SW 34th St.\, Fort Lauderdale\, United States
X-APPLE-STRUCTURED-LOCATION;VALUE=URI;X-ADDRESS=891 SW 34th St.\, Fort Laud
 erdale\, United States;X-APPLE-RADIUS=100;X-TITLE=The Fort:geo:0,0
END:VEVENT
BEGIN:VTIMEZONE
TZID:America/New_York
X-LIC-LOCATION:America/New_York
BEGIN:DAYLIGHT
DTSTART:20260308T030000
TZOFFSETFROM:-0500
TZOFFSETTO:-0400
TZNAME:EDT
END:DAYLIGHT
END:VTIMEZONE
END:VCALENDAR