BEGIN:VCALENDAR
VERSION:2.0
PRODID:-//wp-events-plugin.com//7.2.3.1//EN
TZID:America/New_York
X-WR-TIMEZONE:America/New_York
BEGIN:VEVENT
UID:5751@goriverwalk.com
DTSTART;TZID=America/New_York:20181117T193000
DTEND;TZID=America/New_York:20181117T213000
DTSTAMP:20181018T193149Z
URL:https://www.goriverwalk.com/greater-fort-lauderdale-events/battle-of-t
 he-boros-x
SUMMARY:Battle of the Boros X
DESCRIPTION:Featuring Rock-n-Roll Hall of Famers
ATTACH;FMTTYPE=image/jpeg:https://www.goriverwalk.com/wp-content/uploads/2
 018/09/Battle-of-the-Boros-X.jpg
CATEGORIES:Music
LOCATION:Coral Springs Center for the Arts\, 2855 Coral Springs Drive\, Cor
 al Springs\, FL\, 33065\, United States
GEO:26.2664114;-80.264947
X-APPLE-STRUCTURED-LOCATION;VALUE=URI;X-ADDRESS=2855 Coral Springs Drive\, 
 Coral Springs\, FL\, 33065\, United States;X-APPLE-RADIUS=100;X-TITLE=Cora
 l Springs Center for the Arts:geo:26.2664114,-80.264947
END:VEVENT
BEGIN:VTIMEZONE
TZID:America/New_York
X-LIC-LOCATION:America/New_York
BEGIN:STANDARD
DTSTART:20181104T010000
TZOFFSETFROM:-0400
TZOFFSETTO:-0500
TZNAME:EST
END:STANDARD
END:VTIMEZONE
END:VCALENDAR