BEGIN:VCALENDAR
VERSION:2.0
PRODID:-//wp-events-plugin.com//7.2.3.1//EN
TZID:America/New_York
X-WR-TIMEZONE:America/New_York
BEGIN:VEVENT
UID:5730@goriverwalk.com
DTSTART;TZID=America/New_York:20180920T190000
DTEND;TZID=America/New_York:20180920T210000
DTSTAMP:20180905T195600Z
URL:https://www.goriverwalk.com/greater-fort-lauderdale-events/balance-on-
 balqony-5
SUMMARY:Balance on BalQony
DESCRIPTION:A monthly fitness event series
ATTACH;FMTTYPE=image/jpeg:https://www.goriverwalk.com/wp-content/uploads/2
 018/04/Balance-on-BalQony-2.jpg
CATEGORIES:Health
LOCATION:Hilton Fort Lauderdale Beach Resort\, 505 N Fort Lauderdale Beach 
 Blvd \, Fort Lauderdale \, Fl\, 33304\, United States
GEO:26.129435;-80.104385
X-APPLE-STRUCTURED-LOCATION;VALUE=URI;X-ADDRESS=505 N Fort Lauderdale Beach
  Blvd \, Fort Lauderdale \, Fl\, 33304\, United States;X-APPLE-RADIUS=100;
 X-TITLE=Hilton Fort Lauderdale Beach Resort:geo:26.129435,-80.104385
END:VEVENT
BEGIN:VTIMEZONE
TZID:America/New_York
X-LIC-LOCATION:America/New_York
BEGIN:DAYLIGHT
DTSTART:20180311T030000
TZOFFSETFROM:-0500
TZOFFSETTO:-0400
TZNAME:EDT
END:DAYLIGHT
END:VTIMEZONE
END:VCALENDAR