BEGIN:VCALENDAR
VERSION:2.0
PRODID:-//wp-events-plugin.com//7.2.3.1//EN
TZID:America/New_York
X-WR-TIMEZONE:America/New_York
BEGIN:VEVENT
UID:20422@goriverwalk.com
DTSTART;TZID=America/New_York:20250329T110000
DTEND;TZID=America/New_York:20250329T120000
DTSTAMP:20250207T212426Z
URL:https://www.goriverwalk.com/greater-fort-lauderdale-events/bach-to-the
 -future-2
SUMMARY:Bach to the Future
DESCRIPTION:Interactive event brings timeless music to life
ATTACH;FMTTYPE=image/jpeg:https://www.goriverwalk.com/wp-content/uploads/2
 025/02/IUZJfn4R_kSY9_WmxCApZg.large_.jpg
CATEGORIES:Children,Music
LOCATION:First Presbyterian Church of Fort Lauderdale\, 401 SE 15th Ave\, F
 ort Lauderdale\, FL\, 33301\, United States
X-APPLE-STRUCTURED-LOCATION;VALUE=URI;X-ADDRESS=401 SE 15th Ave\, Fort Laud
 erdale\, FL\, 33301\, United States;X-APPLE-RADIUS=100;X-TITLE=First Presb
 yterian Church of Fort Lauderdale:geo:0,0
END:VEVENT
BEGIN:VTIMEZONE
TZID:America/New_York
X-LIC-LOCATION:America/New_York
BEGIN:DAYLIGHT
DTSTART:20250309T030000
TZOFFSETFROM:-0500
TZOFFSETTO:-0400
TZNAME:EDT
END:DAYLIGHT
END:VTIMEZONE
END:VCALENDAR