BEGIN:VCALENDAR
VERSION:2.0
PRODID:-//wp-events-plugin.com//7.2.3.1//EN
TZID:America/New_York
X-WR-TIMEZONE:America/New_York
BEGIN:VEVENT
UID:13903@goriverwalk.com
DTSTART;TZID=America/New_York:20220401T170000
DTEND;TZID=America/New_York:20220401T200000
DTSTAMP:20220325T203728Z
URL:https://www.goriverwalk.com/greater-fort-lauderdale-events/autism-acce
 ptance-month-kickoff-party
SUMMARY:Autism Acceptance Month Kickoff Party
DESCRIPTION:Happy hour with light bites
ATTACH;FMTTYPE=image/jpeg:https://www.goriverwalk.com/wp-content/uploads/2
 022/03/banner-2.png
CATEGORIES:Cocktail
LOCATION:Tru Hotel\, 315 NW 1st Avenue\, Fort Lauderdale\, FL\, 33301\, Uni
 ted States
X-APPLE-STRUCTURED-LOCATION;VALUE=URI;X-ADDRESS=315 NW 1st Avenue\, Fort La
 uderdale\, FL\, 33301\, United States;X-APPLE-RADIUS=100;X-TITLE=Tru Hotel
 :geo:0,0
END:VEVENT
BEGIN:VTIMEZONE
TZID:America/New_York
X-LIC-LOCATION:America/New_York
BEGIN:DAYLIGHT
DTSTART:20220313T030000
TZOFFSETFROM:-0500
TZOFFSETTO:-0400
TZNAME:EDT
END:DAYLIGHT
END:VTIMEZONE
END:VCALENDAR