BEGIN:VCALENDAR
VERSION:2.0
PRODID:-//wp-events-plugin.com//7.2.3.1//EN
TZID:America/New_York
X-WR-TIMEZONE:America/New_York
BEGIN:VEVENT
UID:4077@goriverwalk.com
DTSTART;TZID=America/New_York:20180310T113000
DTEND;TZID=America/New_York:20180310T150000
DTSTAMP:20180118T205753Z
URL:https://www.goriverwalk.com/greater-fort-lauderdale-events/author-pres
 entation-scholarship-fundraiser-luncheon-2
SUMMARY:Author Presentation & Scholarship Fundraiser Luncheon
DESCRIPTION:“A Mystery for Every Mood”
ATTACH;FMTTYPE=image/jpeg:https://www.goriverwalk.com/wp-content/uploads/2
 017/11/Default-calendar.jpg
CATEGORIES:Education,Fundraiser
LOCATION:Lighthouse Point Yacht Club\, 2701 NE 42nd St\, St\, Lighthouse Po
 int\, Florida\, 33064\, United States
GEO:26.283516;-80.083565
X-APPLE-STRUCTURED-LOCATION;VALUE=URI;X-ADDRESS=2701 NE 42nd St\, St\, Ligh
 thouse Point\, Florida\, 33064\, United States;X-APPLE-RADIUS=100;X-TITLE=
 Lighthouse Point Yacht Club:geo:26.283516,-80.083565
END:VEVENT
BEGIN:VTIMEZONE
TZID:America/New_York
X-LIC-LOCATION:America/New_York
BEGIN:STANDARD
DTSTART:20171105T010000
TZOFFSETFROM:-0400
TZOFFSETTO:-0500
TZNAME:EST
END:STANDARD
END:VTIMEZONE
END:VCALENDAR