BEGIN:VCALENDAR
VERSION:2.0
PRODID:-//wp-events-plugin.com//7.2.3.1//EN
TZID:America/New_York
X-WR-TIMEZONE:America/New_York
BEGIN:VEVENT
UID:4421@goriverwalk.com
DTSTART;TZID=America/New_York:20180613T200000
DTEND;TZID=America/New_York:20180613T220000
DTSTAMP:20180515T203951Z
URL:https://www.goriverwalk.com/greater-fort-lauderdale-events/audra-mcdon
 ald-2
SUMMARY:Audra McDonald
DESCRIPTION:The winner of six Tony Awards\, two Grammys and an Emmy Award p
 erforms
ATTACH;FMTTYPE=image/jpeg:https://www.goriverwalk.com/wp-content/uploads/2
 017/12/audra-mcdonald.jpg
CATEGORIES:Music
LOCATION:Broward Center for the Performing Arts\, 201 SW 5th Avenue\, Fort 
 Lauderdale\, Florida\, 33312\, United States
GEO:26.119873;-80.149269
X-APPLE-STRUCTURED-LOCATION;VALUE=URI;X-ADDRESS=201 SW 5th Avenue\, Fort La
 uderdale\, Florida\, 33312\, United States;X-APPLE-RADIUS=100;X-TITLE=Brow
 ard Center for the Performing Arts:geo:26.119873,-80.149269
END:VEVENT
BEGIN:VTIMEZONE
TZID:America/New_York
X-LIC-LOCATION:America/New_York
BEGIN:DAYLIGHT
DTSTART:20180311T030000
TZOFFSETFROM:-0500
TZOFFSETTO:-0400
TZNAME:EDT
END:DAYLIGHT
END:VTIMEZONE
END:VCALENDAR