BEGIN:VCALENDAR
VERSION:2.0
PRODID:-//wp-events-plugin.com//7.2.3.1//EN
TZID:America/New_York
X-WR-TIMEZONE:America/New_York
BEGIN:VEVENT
UID:15764@goriverwalk.com
DTSTART;TZID=America/New_York:20221203T120000
DTEND;TZID=America/New_York:20221204T210000
DTSTAMP:20221129T183758Z
URL:https://www.goriverwalk.com/greater-fort-lauderdale-events/audacy-beac
 h-festival
SUMMARY:Audacy Beach Festival
DESCRIPTION:2 Day of Live Music
ATTACH;FMTTYPE=image/jpeg:https://www.goriverwalk.com/wp-content/uploads/2
 022/11/Audacy-Beach-Fest-2022.jpg
CATEGORIES:Festival,Music
LOCATION:Fort Lauderdale Beach Park\, 1000 Seabreeze Boulevard\, Fort Laude
 rdale\, Florida\, 33316\, United States
GEO:26.110613;-80.10585200000003
X-APPLE-STRUCTURED-LOCATION;VALUE=URI;X-ADDRESS=1000 Seabreeze Boulevard\, 
 Fort Lauderdale\, Florida\, 33316\, United States;X-APPLE-RADIUS=100;X-TIT
 LE=Fort Lauderdale Beach Park:geo:26.110613,-80.10585200000003
END:VEVENT
BEGIN:VTIMEZONE
TZID:America/New_York
X-LIC-LOCATION:America/New_York
BEGIN:STANDARD
DTSTART:20221106T010000
TZOFFSETFROM:-0400
TZOFFSETTO:-0500
TZNAME:EST
END:STANDARD
END:VTIMEZONE
END:VCALENDAR