BEGIN:VCALENDAR
VERSION:2.0
PRODID:-//wp-events-plugin.com//7.2.3.1//EN
TZID:America/New_York
X-WR-TIMEZONE:America/New_York
BEGIN:VEVENT
UID:15397@goriverwalk.com
DTSTART;TZID=America/New_York:20221107T180000
DTEND;TZID=America/New_York:20221107T180000
DTSTAMP:20221021T163652Z
URL:https://www.goriverwalk.com/greater-fort-lauderdale-events/astronaut-d
 r-ellen-ochoa
SUMMARY:Astronaut Dr. Ellen Ochoa!
DESCRIPTION:A FREE Virtual Evening
ATTACH;FMTTYPE=image/jpeg:https://www.goriverwalk.com/wp-content/uploads/2
 022/10/DrOchoa_815x472_8_8.jpg
CATEGORIES:Movie,Science
END:VEVENT
BEGIN:VTIMEZONE
TZID:America/New_York
X-LIC-LOCATION:America/New_York
BEGIN:STANDARD
DTSTART:20221106T010000
TZOFFSETFROM:-0400
TZOFFSETTO:-0500
TZNAME:EST
END:STANDARD
END:VTIMEZONE
END:VCALENDAR