BEGIN:VCALENDAR
VERSION:2.0
PRODID:-//wp-events-plugin.com//7.2.3.1//EN
TZID:America/New_York
X-WR-TIMEZONE:America/New_York
BEGIN:VEVENT
UID:11076@goriverwalk.com
DTSTART;TZID=America/New_York:20210417T130000
DTEND;TZID=America/New_York:20210417T170000
DTSTAMP:20210413T195117Z
URL:https://www.goriverwalk.com/greater-fort-lauderdale-events/assemblage-
 and-squeeze-tweeze-please
SUMMARY:'Assemblage' and 'Squeeze\, Tweeze\, Please'
DESCRIPTION:Two new exhibitions
ATTACH;FMTTYPE=image/jpeg:https://www.goriverwalk.com/wp-content/uploads/2
 017/11/Default-calendar.jpg
CATEGORIES:Art
END:VEVENT
BEGIN:VTIMEZONE
TZID:America/New_York
X-LIC-LOCATION:America/New_York
BEGIN:DAYLIGHT
DTSTART:20210314T030000
TZOFFSETFROM:-0500
TZOFFSETTO:-0400
TZNAME:EDT
END:DAYLIGHT
END:VTIMEZONE
END:VCALENDAR