BEGIN:VCALENDAR
VERSION:2.0
PRODID:-//wp-events-plugin.com//7.2.3.1//EN
TZID:America/New_York
X-WR-TIMEZONE:America/New_York
BEGIN:VEVENT
UID:17550@goriverwalk.com
DTSTART;TZID=America/New_York:20231108T194500
DTEND;TZID=America/New_York:20231108T220000
DTSTAMP:20231010T173503Z
URL:https://www.goriverwalk.com/greater-fort-lauderdale-events/ashley-pezz
 otti-the-south-florida-jazz-orchestra
SUMMARY:Ashley Pezzotti & the South Florida Jazz Orchestra
DESCRIPTION:Featuring fresh new orchestrations
ATTACH;FMTTYPE=image/jpeg:https://www.goriverwalk.com/wp-content/uploads/2
 023/09/ashley-pezzotti-sq-e1696959102243.jpeg
CATEGORIES:Music
LOCATION:Broward Center for the Performing Arts\, 201 SW 5th Avenue\, Fort 
 Lauderdale\, FL\, 33312\, United States
GEO:26.1198743;-80.14926960000003
X-APPLE-STRUCTURED-LOCATION;VALUE=URI;X-ADDRESS=201 SW 5th Avenue\, Fort La
 uderdale\, FL\, 33312\, United States;X-APPLE-RADIUS=100;X-TITLE=Broward C
 enter for the Performing Arts:geo:26.1198743,-80.14926960000003
END:VEVENT
BEGIN:VTIMEZONE
TZID:America/New_York
X-LIC-LOCATION:America/New_York
BEGIN:STANDARD
DTSTART:20231105T010000
TZOFFSETFROM:-0400
TZOFFSETTO:-0500
TZNAME:EST
END:STANDARD
END:VTIMEZONE
END:VCALENDAR