BEGIN:VCALENDAR
VERSION:2.0
PRODID:-//wp-events-plugin.com//7.2.3.1//EN
TZID:America/New_York
X-WR-TIMEZONE:America/New_York
BEGIN:VEVENT
UID:16145@goriverwalk.com
DTSTART;TZID=America/New_York:20230204T183000
DTEND;TZID=America/New_York:20230204T220000
DTSTAMP:20230112T190800Z
URL:https://www.goriverwalk.com/greater-fort-lauderdale-events/arts-auctio
 ns-for-animals
SUMMARY:Arts & Auctions For Animals
DESCRIPTION:Hosted by Local 10's Louis Aguirre
ATTACH;FMTTYPE=image/jpeg:https://www.goriverwalk.com/wp-content/uploads/2
 023/01/QR-CODE-ART.jpg
CATEGORIES:Community,Fundraiser
LOCATION:Blanco Y Blanco Arts\, 1147 NE 9th Avenue\, Fort Lauderdale\, FLOR
 IDA\, 33004\, Broward\, United States
X-APPLE-STRUCTURED-LOCATION;VALUE=URI;X-ADDRESS=1147 NE 9th Avenue\, Fort L
 auderdale\, FLORIDA\, 33004\, Broward\, United States;X-APPLE-RADIUS=100;X
 -TITLE=Blanco Y Blanco Arts:geo:0,0
END:VEVENT
BEGIN:VTIMEZONE
TZID:America/New_York
X-LIC-LOCATION:America/New_York
BEGIN:STANDARD
DTSTART:20221106T010000
TZOFFSETFROM:-0400
TZOFFSETTO:-0500
TZNAME:EST
END:STANDARD
END:VTIMEZONE
END:VCALENDAR