BEGIN:VCALENDAR
VERSION:2.0
PRODID:-//wp-events-plugin.com//7.2.3.1//EN
TZID:America/New_York
X-WR-TIMEZONE:America/New_York
BEGIN:VEVENT
UID:5594@goriverwalk.com
DTSTART;TZID=America/New_York:20181011T180000
DTEND;TZID=America/New_York:20181011T200000
DTSTAMP:20181011T124527Z
URL:https://www.goriverwalk.com/greater-fort-lauderdale-events/artist-rece
 ption-with-daniel-winn
SUMMARY:Artist Reception with Daniel Winn
DESCRIPTION:Meet the artist
ATTACH;FMTTYPE=image/jpeg:https://www.goriverwalk.com/wp-content/uploads/2
 018/08/Metamorphose-Study-II-39-x-29.5.jpg
CATEGORIES:Art
LOCATION:Coral Springs Museum of Art\, 2855A Coral Springs Drive\, Coral Sp
 rings\, FL\, 33065\, South Florida\, United States
GEO:26.266502;-80.264977
X-APPLE-STRUCTURED-LOCATION;VALUE=URI;X-ADDRESS=2855A Coral Springs Drive\,
  Coral Springs\, FL\, 33065\, South Florida\, United States;X-APPLE-RADIUS
 =100;X-TITLE=Coral Springs Museum of Art:geo:26.266502,-80.264977
END:VEVENT
BEGIN:VTIMEZONE
TZID:America/New_York
X-LIC-LOCATION:America/New_York
BEGIN:DAYLIGHT
DTSTART:20180311T030000
TZOFFSETFROM:-0500
TZOFFSETTO:-0400
TZNAME:EDT
END:DAYLIGHT
END:VTIMEZONE
END:VCALENDAR