BEGIN:VCALENDAR
VERSION:2.0
PRODID:-//wp-events-plugin.com//7.2.3.1//EN
TZID:America/New_York
X-WR-TIMEZONE:America/New_York
BEGIN:VEVENT
UID:20445@goriverwalk.com
DTSTART;TZID=America/New_York:20250222T160000
DTEND;TZID=America/New_York:20250222T170000
DTSTAMP:20250211T151559Z
URL:https://www.goriverwalk.com/greater-fort-lauderdale-events/art-power-a
 nd-politics-in-the-italian-renaissance
SUMMARY:Art\, Power\, and Politics in the Italian Renaissance
DESCRIPTION:Dr. Rocky Ruggiero
ATTACH;FMTTYPE=image/jpeg:https://www.goriverwalk.com/wp-content/uploads/2
 025/02/smallerBotticelli.jpg
CATEGORIES:Art,Cultural,Education
LOCATION:NSU Art Museum Fort Lauderdale\, 1 East Las Olas Boulevard\, Fort 
 Lauderdale\, FL\, 33301\, United States
GEO:26.1198346;-80.14277179999999
X-APPLE-STRUCTURED-LOCATION;VALUE=URI;X-ADDRESS=1 East Las Olas Boulevard\,
  Fort Lauderdale\, FL\, 33301\, United States;X-APPLE-RADIUS=100;X-TITLE=N
 SU Art Museum Fort Lauderdale:geo:26.1198346,-80.14277179999999
END:VEVENT
BEGIN:VTIMEZONE
TZID:America/New_York
X-LIC-LOCATION:America/New_York
BEGIN:STANDARD
DTSTART:20241103T010000
TZOFFSETFROM:-0400
TZOFFSETTO:-0500
TZNAME:EST
END:STANDARD
END:VTIMEZONE
END:VCALENDAR