BEGIN:VCALENDAR
VERSION:2.0
PRODID:-//wp-events-plugin.com//7.2.3.1//EN
TZID:America/New_York
X-WR-TIMEZONE:America/New_York
BEGIN:VEVENT
UID:7785@goriverwalk.com
DTSTART;TZID=America/New_York:20190801T180000
DTEND;TZID=America/New_York:20190801T200000
DTSTAMP:20190711T185328Z
URL:https://www.goriverwalk.com/greater-fort-lauderdale-events/art-of-wine
 -food-summer-in-sonoma
SUMMARY:Art of Wine & Food:  Summer in Sonoma
DESCRIPTION:Perfect wines for the summer
ATTACH;FMTTYPE=image/jpeg:https://www.goriverwalk.com/wp-content/uploads/2
 019/07/NSU-Art-Museum-Logo.jpg
CATEGORIES:Art,Cocktail
LOCATION:NSU Art Museum Fort Lauderdale\, 1 East Las Olas Boulevard\, Fort 
 Lauderdale\, FL\, 33301\, United States
GEO:26.1198346;-80.14277179999999
X-APPLE-STRUCTURED-LOCATION;VALUE=URI;X-ADDRESS=1 East Las Olas Boulevard\,
  Fort Lauderdale\, FL\, 33301\, United States;X-APPLE-RADIUS=100;X-TITLE=N
 SU Art Museum Fort Lauderdale:geo:26.1198346,-80.14277179999999
END:VEVENT
BEGIN:VTIMEZONE
TZID:America/New_York
X-LIC-LOCATION:America/New_York
BEGIN:DAYLIGHT
DTSTART:20190310T030000
TZOFFSETFROM:-0500
TZOFFSETTO:-0400
TZNAME:EDT
END:DAYLIGHT
END:VTIMEZONE
END:VCALENDAR