BEGIN:VCALENDAR
VERSION:2.0
PRODID:-//wp-events-plugin.com//7.2.3.1//EN
TZID:America/New_York
X-WR-TIMEZONE:America/New_York
BEGIN:VEVENT
UID:3119@goriverwalk.com
DTSTART;TZID=America/New_York:20170318T190000
DTEND;TZID=America/New_York:20170318T220000
DTSTAMP:20170223T113433Z
URL:https://www.goriverwalk.com/greater-fort-lauderdale-events/art-gallery
 -21-presents-wilton-manors-works
SUMMARY:"Wilton Manors Works"
DESCRIPTION:An interactive event that aims to increase awareness of the LGB
 T work experience.
ATTACH;FMTTYPE=image/jpeg:https://www.goriverwalk.com/wp-content/uploads/2
 015/12/Default-calendar.jpg
CATEGORIES:Art
LOCATION:Art Gallery 21\, 600 NE 21 Court\, Wilton Manors\, FL\, 33305\, Un
 ited States
GEO:26.153975;-80.13813900000002
X-APPLE-STRUCTURED-LOCATION;VALUE=URI;X-ADDRESS=600 NE 21 Court\, Wilton Ma
 nors\, FL\, 33305\, United States;X-APPLE-RADIUS=100;X-TITLE=Art Gallery 2
 1:geo:26.153975,-80.13813900000002
END:VEVENT
BEGIN:VTIMEZONE
TZID:America/New_York
X-LIC-LOCATION:America/New_York
BEGIN:DAYLIGHT
DTSTART:20170312T030000
TZOFFSETFROM:-0500
TZOFFSETTO:-0400
TZNAME:EDT
END:DAYLIGHT
END:VTIMEZONE
END:VCALENDAR