BEGIN:VCALENDAR
VERSION:2.0
PRODID:-//wp-events-plugin.com//7.2.3.1//EN
TZID:America/New_York
X-WR-TIMEZONE:America/New_York
BEGIN:VEVENT
UID:16224@goriverwalk.com
DTSTART;TZID=America/New_York:20230126T190000
DTEND;TZID=America/New_York:20230126T220000
DTSTAMP:20230119T135846Z
URL:https://www.goriverwalk.com/greater-fort-lauderdale-events/argentinian
 -experience-dinner
SUMMARY:Argentinian Experience Dinner
DESCRIPTION:By the Emeril Lagassee Foundation Kitchen
ATTACH;FMTTYPE=image/jpeg:https://www.goriverwalk.com/wp-content/uploads/2
 023/01/Capture.jpg
CATEGORIES:Food
LOCATION:Arc Culinary\, 10250 NW 53rd Street\, Sunrise\, FL\, 33351\, Unite
 d States
X-APPLE-STRUCTURED-LOCATION;VALUE=URI;X-ADDRESS=10250 NW 53rd Street\, Sunr
 ise\, FL\, 33351\, United States;X-APPLE-RADIUS=100;X-TITLE=Arc Culinary:g
 eo:0,0
END:VEVENT
BEGIN:VTIMEZONE
TZID:America/New_York
X-LIC-LOCATION:America/New_York
BEGIN:STANDARD
DTSTART:20221106T010000
TZOFFSETFROM:-0400
TZOFFSETTO:-0500
TZNAME:EST
END:STANDARD
END:VTIMEZONE
END:VCALENDAR