BEGIN:VCALENDAR
VERSION:2.0
PRODID:-//wp-events-plugin.com//7.2.3.1//EN
TZID:America/New_York
X-WR-TIMEZONE:America/New_York
BEGIN:VEVENT
UID:6168@goriverwalk.com
DTSTART;TZID=America/New_York:20181124T180000
DTEND;TZID=America/New_York:20181124T220000
DTSTAMP:20181105T191427Z
URL:https://www.goriverwalk.com/greater-fort-lauderdale-events/apart-the-a
 rt-of-separation-2
SUMMARY:Apart: The Art of Separation
DESCRIPTION:Closing Reception
ATTACH;FMTTYPE=image/jpeg:https://www.goriverwalk.com/wp-content/uploads/2
 018/11/NOVAW18SM.png
CATEGORIES:Art
LOCATION:Art Attack\, 807 NE 4th Ave\, Ft. Lauderdale\, FL\, 33304\, FL\, U
 nited States
GEO:26.133663;-80.140266
X-APPLE-STRUCTURED-LOCATION;VALUE=URI;X-ADDRESS=807 NE 4th Ave\, Ft. Lauder
 dale\, FL\, 33304\, FL\, United States;X-APPLE-RADIUS=100;X-TITLE=Art Atta
 ck:geo:26.133663,-80.140266
END:VEVENT
BEGIN:VTIMEZONE
TZID:America/New_York
X-LIC-LOCATION:America/New_York
BEGIN:STANDARD
DTSTART:20181104T010000
TZOFFSETFROM:-0400
TZOFFSETTO:-0500
TZNAME:EST
END:STANDARD
END:VTIMEZONE
END:VCALENDAR