BEGIN:VCALENDAR
VERSION:2.0
PRODID:-//wp-events-plugin.com//7.2.3.1//EN
TZID:America/New_York
X-WR-TIMEZONE:America/New_York
BEGIN:VEVENT
UID:10250@goriverwalk.com
DTSTART;TZID=America/New_York:20201029T000000
DTEND;TZID=America/New_York:20201029T000000
DTSTAMP:20201012T191414Z
URL:https://www.goriverwalk.com/greater-fort-lauderdale-events/annual-cult
 ural-forum
SUMMARY:Annual Cultural Forum
DESCRIPTION:A free event
ATTACH;FMTTYPE=image/jpeg:https://www.goriverwalk.com/wp-content/uploads/2
 020/10/ACFGraphic.jpeg
CATEGORIES:Community,Cultural
END:VEVENT
BEGIN:VTIMEZONE
TZID:America/New_York
X-LIC-LOCATION:America/New_York
BEGIN:DAYLIGHT
DTSTART:20200308T030000
TZOFFSETFROM:-0500
TZOFFSETTO:-0400
TZNAME:EDT
END:DAYLIGHT
END:VTIMEZONE
END:VCALENDAR