BEGIN:VCALENDAR
VERSION:2.0
PRODID:-//wp-events-plugin.com//7.2.3.1//EN
TZID:America/New_York
X-WR-TIMEZONE:America/New_York
BEGIN:VEVENT
UID:16864@goriverwalk.com
DTSTART;TZID=America/New_York:20230603T200000
DTEND;TZID=America/New_York:20230603T200000
DTSTAMP:20230420T155404Z
URL:https://www.goriverwalk.com/greater-fort-lauderdale-events/ann-hampton
 -callaway
SUMMARY:Ann Hampton Callaway
DESCRIPTION:Love and Let Love: A Pride Celebration
ATTACH;FMTTYPE=image/jpeg:https://www.goriverwalk.com/wp-content/uploads/2
 023/04/06.03.23-Ann-Hampton.jpg
CATEGORIES:Community,Music
LOCATION:Sunshine Cathedral\, 1480 SW 9th Avenue\, Wilton Manors\, Florida\
 , 33315\, United States
X-APPLE-STRUCTURED-LOCATION;VALUE=URI;X-ADDRESS=1480 SW 9th Avenue\, Wilton
  Manors\, Florida\, 33315\, United States;X-APPLE-RADIUS=100;X-TITLE=Sunsh
 ine Cathedral:geo:0,0
END:VEVENT
BEGIN:VTIMEZONE
TZID:America/New_York
X-LIC-LOCATION:America/New_York
BEGIN:DAYLIGHT
DTSTART:20230312T030000
TZOFFSETFROM:-0500
TZOFFSETTO:-0400
TZNAME:EDT
END:DAYLIGHT
END:VTIMEZONE
END:VCALENDAR