BEGIN:VCALENDAR
VERSION:2.0
PRODID:-//wp-events-plugin.com//7.2.3.1//EN
TZID:America/New_York
X-WR-TIMEZONE:America/New_York
BEGIN:VEVENT
UID:16766@goriverwalk.com
DTSTART;TZID=America/New_York:20230603T200000
DTEND;TZID=America/New_York:20230603T220000
DTSTAMP:20230407T125941Z
URL:https://www.goriverwalk.com/greater-fort-lauderdale-events/an-evening-
 with-vic-dibitetto
SUMMARY:An Evening With Vic Dibitetto
DESCRIPTION:The Italian Hurricane
ATTACH;FMTTYPE=image/jpeg:https://www.goriverwalk.com/wp-content/uploads/2
 023/04/wqJws9nqW06GuQ9EU2ReFw.large_.jpg
CATEGORIES:Comedy
LOCATION:Gulfstream Park Sport of Kings Theater\, 901 S Federal Hwy\, Halla
 ndale Beach\, FL\, 33009\, United States
X-APPLE-STRUCTURED-LOCATION;VALUE=URI;X-ADDRESS=901 S Federal Hwy\, Halland
 ale Beach\, FL\, 33009\, United States;X-APPLE-RADIUS=100;X-TITLE=Gulfstre
 am Park Sport of Kings Theater:geo:0,0
END:VEVENT
BEGIN:VTIMEZONE
TZID:America/New_York
X-LIC-LOCATION:America/New_York
BEGIN:DAYLIGHT
DTSTART:20230312T030000
TZOFFSETFROM:-0500
TZOFFSETTO:-0400
TZNAME:EDT
END:DAYLIGHT
END:VTIMEZONE
END:VCALENDAR