BEGIN:VCALENDAR
VERSION:2.0
PRODID:-//wp-events-plugin.com//7.2.3.1//EN
TZID:America/New_York
X-WR-TIMEZONE:America/New_York
BEGIN:VEVENT
UID:8189@goriverwalk.com
DTSTART;TZID=America/New_York:20200124T200000
DTEND;TZID=America/New_York:20200124T200000
DTSTAMP:20200120T150335Z
URL:https://www.goriverwalk.com/greater-fort-lauderdale-events/an-evening-
 with-tony-miles-of-fastball
SUMMARY:AN EVENING WITH TONY & MILES OF FASTBALL
DESCRIPTION:A celebrated rock band
ATTACH;FMTTYPE=image/jpeg:https://www.goriverwalk.com/wp-content/uploads/2
 019/09/TONY-MILES.jpg
CATEGORIES:Music
LOCATION:Broward Center for the Performing Arts\, 201 SW 5th Avenue\, Fort 
 Lauderdale\, FL\, 33312\, United States
GEO:26.1198743;-80.14926960000003
X-APPLE-STRUCTURED-LOCATION;VALUE=URI;X-ADDRESS=201 SW 5th Avenue\, Fort La
 uderdale\, FL\, 33312\, United States;X-APPLE-RADIUS=100;X-TITLE=Broward C
 enter for the Performing Arts:geo:26.1198743,-80.14926960000003
END:VEVENT
BEGIN:VTIMEZONE
TZID:America/New_York
X-LIC-LOCATION:America/New_York
BEGIN:STANDARD
DTSTART:20191103T010000
TZOFFSETFROM:-0400
TZOFFSETTO:-0500
TZNAME:EST
END:STANDARD
END:VTIMEZONE
END:VCALENDAR