BEGIN:VCALENDAR
VERSION:2.0
PRODID:-//wp-events-plugin.com//7.2.3.1//EN
TZID:America/New_York
X-WR-TIMEZONE:America/New_York
BEGIN:VEVENT
UID:7100@goriverwalk.com
DTSTART;TZID=America/New_York:20190510T200000
DTEND;TZID=America/New_York:20190510T213000
DTSTAMP:20190319T155427Z
URL:https://www.goriverwalk.com/greater-fort-lauderdale-events/an-evening-
 with-kristina-kuzmic
SUMMARY:An Evening with Kristina Kuzmic
DESCRIPTION:The Hope and Humor Tour
ATTACH;FMTTYPE=image/jpeg:https://www.goriverwalk.com/wp-content/uploads/2
 019/03/kristina-kuzmic.jpg
CATEGORIES:Comedy,Theater
LOCATION:Parker Playhouse\, 707 NE 8th Street\, Fort Lauderdale\, FL\, 3330
 4\, United States
GEO:26.134363;-80.136139
X-APPLE-STRUCTURED-LOCATION;VALUE=URI;X-ADDRESS=707 NE 8th Street\, Fort La
 uderdale\, FL\, 33304\, United States;X-APPLE-RADIUS=100;X-TITLE=Parker Pl
 ayhouse:geo:26.134363,-80.136139
END:VEVENT
BEGIN:VTIMEZONE
TZID:America/New_York
X-LIC-LOCATION:America/New_York
BEGIN:DAYLIGHT
DTSTART:20190310T030000
TZOFFSETFROM:-0500
TZOFFSETTO:-0400
TZNAME:EDT
END:DAYLIGHT
END:VTIMEZONE
END:VCALENDAR