BEGIN:VCALENDAR
VERSION:2.0
PRODID:-//wp-events-plugin.com//7.2.3.1//EN
TZID:America/New_York
X-WR-TIMEZONE:America/New_York
BEGIN:VEVENT
UID:4396@goriverwalk.com
DTSTART;TZID=America/New_York:20180331T170000
DTEND;TZID=America/New_York:20180331T200000
DTSTAMP:20180313T205431Z
URL:https://www.goriverwalk.com/greater-fort-lauderdale-events/an-easter-p
 erformance-handels-messiah
SUMMARY:An Easter Performance - Handel's Messiah
DESCRIPTION:South Florida Seventh-day Adventist Chorale
ATTACH;FMTTYPE=image/jpeg:https://www.goriverwalk.com/wp-content/uploads/2
 017/11/Default-calendar.jpg
CATEGORIES:Music
LOCATION:Lauderhill SDA Church\, 4100 NW 11th Court \, Lauderhill\, FL\, 33
 313\, United States
GEO:26.140121;-80.20376699999997
X-APPLE-STRUCTURED-LOCATION;VALUE=URI;X-ADDRESS=4100 NW 11th Court \, Laude
 rhill\, FL\, 33313\, United States;X-APPLE-RADIUS=100;X-TITLE=Lauderhill S
 DA Church:geo:26.140121,-80.20376699999997
END:VEVENT
BEGIN:VTIMEZONE
TZID:America/New_York
X-LIC-LOCATION:America/New_York
BEGIN:DAYLIGHT
DTSTART:20180311T030000
TZOFFSETFROM:-0500
TZOFFSETTO:-0400
TZNAME:EDT
END:DAYLIGHT
END:VTIMEZONE
END:VCALENDAR