BEGIN:VCALENDAR
VERSION:2.0
PRODID:-//wp-events-plugin.com//7.2.3.1//EN
TZID:America/New_York
X-WR-TIMEZONE:America/New_York
BEGIN:VEVENT
UID:6737@goriverwalk.com
DTSTART;TZID=America/New_York:20190330T190000
DTEND;TZID=America/New_York:20190330T220000
DTSTAMP:20190116T162546Z
URL:https://www.goriverwalk.com/greater-fort-lauderdale-events/all-white-a
 ffair
SUMMARY:All White Affair
DESCRIPTION:A fundraiser to enhance their mission
ATTACH;FMTTYPE=image/jpeg:https://www.goriverwalk.com/wp-content/uploads/2
 019/01/All-White-Affair-United-Way-Front-4.jpg
CATEGORIES:Cocktail,Fundraiser
LOCATION:The Grateful Palate Catering and Events\, 3003 NE 32nd Ave\, Fort 
 Lauderdale\, FL\, 33308\, United States
GEO:26.1655132;-80.10364119999997
X-APPLE-STRUCTURED-LOCATION;VALUE=URI;X-ADDRESS=3003 NE 32nd Ave\, Fort Lau
 derdale\, FL\, 33308\, United States;X-APPLE-RADIUS=100;X-TITLE=The Gratef
 ul Palate Catering and Events:geo:26.1655132,-80.10364119999997
END:VEVENT
BEGIN:VTIMEZONE
TZID:America/New_York
X-LIC-LOCATION:America/New_York
BEGIN:DAYLIGHT
DTSTART:20190310T030000
TZOFFSETFROM:-0500
TZOFFSETTO:-0400
TZNAME:EDT
END:DAYLIGHT
END:VTIMEZONE
END:VCALENDAR