BEGIN:VCALENDAR
VERSION:2.0
PRODID:-//wp-events-plugin.com//7.2.3.1//EN
TZID:America/New_York
X-WR-TIMEZONE:America/New_York
BEGIN:VEVENT
UID:10355@goriverwalk.com
DTSTART;TZID=America/New_York:20201107T110000
DTEND;TZID=America/New_York:20201107T120000
DTSTAMP:20201030T171016Z
URL:https://www.goriverwalk.com/greater-fort-lauderdale-events/all-abiliti
 es-series-play-along-with-nestor-torres
SUMMARY:All Abilities Series: Play Along with Nestor Torres
DESCRIPTION:A free interactive virtual event
ATTACH;FMTTYPE=image/jpeg:https://www.goriverwalk.com/wp-content/uploads/2
 020/10/Nestor-T.jpg
CATEGORIES:Education,Music
END:VEVENT
BEGIN:VTIMEZONE
TZID:America/New_York
X-LIC-LOCATION:America/New_York
BEGIN:STANDARD
DTSTART:20201101T010000
TZOFFSETFROM:-0400
TZOFFSETTO:-0500
TZNAME:EST
END:STANDARD
END:VTIMEZONE
END:VCALENDAR