BEGIN:VCALENDAR
VERSION:2.0
PRODID:-//wp-events-plugin.com//7.2.3.1//EN
TZID:America/New_York
X-WR-TIMEZONE:America/New_York
BEGIN:VEVENT
UID:14063@goriverwalk.com
DTSTART;TZID=America/New_York:20220501T140000
DTEND;TZID=America/New_York:20220501T180000
DTSTAMP:20220421T200638Z
URL:https://www.goriverwalk.com/greater-fort-lauderdale-events/akasha-urho
 bo-day
SUMMARY:Akasha Urhobo Day
DESCRIPTION:Celebrate and honor our local tennis star!
ATTACH;FMTTYPE=image/jpeg:https://www.goriverwalk.com/wp-content/uploads/2
 022/04/akasha-urhobo-e1650571466359.jpg
CATEGORIES:Community,Sports
LOCATION:Jimmy Evert Tennis Center\, 701 NE 12th Ave\, Fort Lauderdale\, FL
 \, 33304\, United States
X-APPLE-STRUCTURED-LOCATION;VALUE=URI;X-ADDRESS=701 NE 12th Ave\, Fort Laud
 erdale\, FL\, 33304\, United States;X-APPLE-RADIUS=100;X-TITLE=Jimmy Evert
  Tennis Center:geo:0,0
END:VEVENT
BEGIN:VTIMEZONE
TZID:America/New_York
X-LIC-LOCATION:America/New_York
BEGIN:DAYLIGHT
DTSTART:20220313T030000
TZOFFSETFROM:-0500
TZOFFSETTO:-0400
TZNAME:EDT
END:DAYLIGHT
END:VTIMEZONE
END:VCALENDAR