BEGIN:VCALENDAR
VERSION:2.0
PRODID:-//wp-events-plugin.com//7.2.3.1//EN
TZID:America/New_York
X-WR-TIMEZONE:America/New_York
BEGIN:VEVENT
UID:9452@goriverwalk.com
DTSTART;TZID=America/New_York:20200206T200000
DTEND;TZID=America/New_York:20200208T213000
DTSTAMP:20200204T191834Z
URL:https://www.goriverwalk.com/greater-fort-lauderdale-events/airotic-out
 landish-fort-lauderdale-season-2020
SUMMARY:AirOtic - Outlandish Fort Lauderdale Season 2020
DESCRIPTION:A sexy and sensual circus style show
ATTACH;FMTTYPE=image/jpeg:https://www.goriverwalk.com/wp-content/uploads/2
 020/02/AirOtic-smaller.png
CATEGORIES:Theater
LOCATION:Sunshine Cathedral\, 1480 SW 9th Ave \, Fort Lauderdale\, FL\, 333
 15\, United States
GEO:26.1033818;-80.15267069999999
X-APPLE-STRUCTURED-LOCATION;VALUE=URI;X-ADDRESS=1480 SW 9th Ave \, Fort Lau
 derdale\, FL\, 33315\, United States;X-APPLE-RADIUS=100;X-TITLE=Sunshine C
 athedral:geo:26.1033818,-80.15267069999999
END:VEVENT
BEGIN:VTIMEZONE
TZID:America/New_York
X-LIC-LOCATION:America/New_York
BEGIN:STANDARD
DTSTART:20191103T010000
TZOFFSETFROM:-0400
TZOFFSETTO:-0500
TZNAME:EST
END:STANDARD
END:VTIMEZONE
END:VCALENDAR