BEGIN:VCALENDAR
VERSION:2.0
PRODID:-//wp-events-plugin.com//7.2.3.1//EN
TZID:America/New_York
X-WR-TIMEZONE:America/New_York
BEGIN:VEVENT
UID:14728@goriverwalk.com
DTSTART;TZID=America/New_York:20220821T150000
DTEND;TZID=America/New_York:20220821T160000
DTSTAMP:20220812T132553Z
URL:https://www.goriverwalk.com/greater-fort-lauderdale-events/afternoon-o
 f-chamber-music
SUMMARY:Afternoon Of Chamber Music
DESCRIPTION:Schubert String Quintet
ATTACH;FMTTYPE=image/jpeg:https://www.goriverwalk.com/wp-content/uploads/2
 022/08/d47f0215-4595-44b3-a219-c2447fafdgf.jpg
CATEGORIES:Music
LOCATION:ArtServe\, 1350 E. Sunrise Blvd.\, Fort Lauderdale\, FL\, 33304\, 
 Broward\, United States
GEO:26.136778;-80.1302407
X-APPLE-STRUCTURED-LOCATION;VALUE=URI;X-ADDRESS=1350 E. Sunrise Blvd.\, For
 t Lauderdale\, FL\, 33304\, Broward\, United States;X-APPLE-RADIUS=100;X-T
 ITLE=ArtServe:geo:26.136778,-80.1302407
END:VEVENT
BEGIN:VTIMEZONE
TZID:America/New_York
X-LIC-LOCATION:America/New_York
BEGIN:DAYLIGHT
DTSTART:20220313T030000
TZOFFSETFROM:-0500
TZOFFSETTO:-0400
TZNAME:EDT
END:DAYLIGHT
END:VTIMEZONE
END:VCALENDAR