BEGIN:VCALENDAR
VERSION:2.0
PRODID:-//wp-events-plugin.com//7.2.3.1//EN
TZID:America/New_York
X-WR-TIMEZONE:America/New_York
BEGIN:VEVENT
UID:4916@goriverwalk.com
DTSTART;TZID=America/New_York:20180615T180000
DTEND;TZID=America/New_York:20180615T200000
DTSTAMP:20180531T141106Z
URL:https://www.goriverwalk.com/greater-fort-lauderdale-events/afro-caribb
 ean-weekend-fest
SUMMARY:Afro-Caribbean Weekend Fest
DESCRIPTION:Celebrating Afro-Caribbean culture\, cuisine\, music and compet
 itive\, interactive storytelling
ATTACH;FMTTYPE=image/jpeg:https://www.goriverwalk.com/wp-content/uploads/2
 018/05/afro-caribbean.jpg
CATEGORIES:Cultural
LOCATION:Foster Park Community Center\, 609 NW 6th Avenue\, Hallandale Beac
 h\, FL\, 33009\, United States
GEO:25.9923811;-80.15500370000001
X-APPLE-STRUCTURED-LOCATION;VALUE=URI;X-ADDRESS=609 NW 6th Avenue\, Halland
 ale Beach\, FL\, 33009\, United States;X-APPLE-RADIUS=100;X-TITLE=Foster P
 ark Community Center:geo:25.9923811,-80.15500370000001
END:VEVENT
BEGIN:VTIMEZONE
TZID:America/New_York
X-LIC-LOCATION:America/New_York
BEGIN:DAYLIGHT
DTSTART:20180311T030000
TZOFFSETFROM:-0500
TZOFFSETTO:-0400
TZNAME:EDT
END:DAYLIGHT
END:VTIMEZONE
END:VCALENDAR