BEGIN:VCALENDAR
VERSION:2.0
PRODID:-//wp-events-plugin.com//7.2.3.1//EN
TZID:America/New_York
X-WR-TIMEZONE:America/New_York
BEGIN:VEVENT
UID:4917@goriverwalk.com
DTSTART;TZID=America/New_York:20180616T140000
DTEND;TZID=America/New_York:20180616T180000
DTSTAMP:20180531T141442Z
URL:https://www.goriverwalk.com/greater-fort-lauderdale-events/afro-caribb
 ean-weekend-fest-2
SUMMARY:Afro-Caribbean Weekend Fest
DESCRIPTION:Celebrating Afro-Caribbean culture\, cuisine\, music and compet
 itive\, interactive storytelling
ATTACH;FMTTYPE=image/jpeg:https://www.goriverwalk.com/wp-content/uploads/2
 018/05/afro-caribbean.jpg
CATEGORIES:Cultural
LOCATION:Hallandale Beach Library\, 300 S. Federal Highway\, Hallandale Bea
 ch\, FL\, 33009\, United States
GEO:25.9812254;-80.1428406
X-APPLE-STRUCTURED-LOCATION;VALUE=URI;X-ADDRESS=300 S. Federal Highway\, Ha
 llandale Beach\, FL\, 33009\, United States;X-APPLE-RADIUS=100;X-TITLE=Hal
 landale Beach Library:geo:25.9812254,-80.1428406
END:VEVENT
BEGIN:VTIMEZONE
TZID:America/New_York
X-LIC-LOCATION:America/New_York
BEGIN:DAYLIGHT
DTSTART:20180311T030000
TZOFFSETFROM:-0500
TZOFFSETTO:-0400
TZNAME:EDT
END:DAYLIGHT
END:VTIMEZONE
END:VCALENDAR